BEGIN:VCALENDAR
VERSION:2.0
PRODID:-//Positively Osceola - ECPv6.15.20//NONSGML v1.0//EN
CALSCALE:GREGORIAN
METHOD:PUBLISH
X-WR-CALNAME:Positively Osceola
X-ORIGINAL-URL:https://www.positivelyosceola.com
X-WR-CALDESC:Events for Positively Osceola
REFRESH-INTERVAL;VALUE=DURATION:PT1H
X-Robots-Tag:noindex
X-PUBLISHED-TTL:PT1H
BEGIN:VTIMEZONE
TZID:America/New_York
BEGIN:DAYLIGHT
TZOFFSETFROM:-0500
TZOFFSETTO:-0400
TZNAME:EDT
DTSTART:20240310T070000
END:DAYLIGHT
BEGIN:STANDARD
TZOFFSETFROM:-0400
TZOFFSETTO:-0500
TZNAME:EST
DTSTART:20241103T060000
END:STANDARD
BEGIN:DAYLIGHT
TZOFFSETFROM:-0500
TZOFFSETTO:-0400
TZNAME:EDT
DTSTART:20250309T070000
END:DAYLIGHT
BEGIN:STANDARD
TZOFFSETFROM:-0400
TZOFFSETTO:-0500
TZNAME:EST
DTSTART:20251102T060000
END:STANDARD
BEGIN:DAYLIGHT
TZOFFSETFROM:-0500
TZOFFSETTO:-0400
TZNAME:EDT
DTSTART:20260308T070000
END:DAYLIGHT
BEGIN:STANDARD
TZOFFSETFROM:-0400
TZOFFSETTO:-0500
TZNAME:EST
DTSTART:20261101T060000
END:STANDARD
END:VTIMEZONE
BEGIN:VEVENT
DTSTART;TZID=America/New_York:20250727T140000
DTEND;TZID=America/New_York:20250727T163000
DTSTAMP:20260425T065201
CREATED:20240723T193441Z
LAST-MODIFIED:20240723T193441Z
UID:10001484-1753624800-1753633800@www.positivelyosceola.com
SUMMARY:Osceola Arts Presents: Catch Me If You Can: The Musical
DESCRIPTION:“Catch Me If You Can” brings the exhilarating true story of Frank Abagnale\, Jr. to life in a dazzling musical comedy that captures the essence of dreams\, deception\, and the art of the chase. \nWith a nomination for four Tony awards\, including Best Musical\, this production boasts a book by Terrence McNally and a vibrant score by Marc Shaiman and Scott Wittman. \nFollow the journey of Frank\, a teenage runaway who\, with charm and wit\, forges his way through life as a pilot\, doctor\, and lawyer\, all while evading the determined FBI agent Carl Hanratty. This spectacle is filled with high-energy dance numbers and compelling storytelling\, making it a perfect fit for theater lovers of all ages. \n***Rated PG-13 \nAudio Described performance\nFriday\, Aug 1 at 7:30pm \nAmerican Sign Language-interpreted performance\nSaturday\, Aug 2 at 2:00pm
URL:https://www.positivelyosceola.com/event/osceola-arts-presents-catch-me-if-you-can-the-musical/2025-07-27/
LOCATION:Osceola Arts\, 2411 E Irlo Bronson Memorial Hwy\, Kissimmee\, FL\, 34744
CATEGORIES:Osceola Arts
ATTACH;FMTTYPE=image/png:https://www.positivelyosceola.com/wp-content/uploads/2024/07/Catch-Me-if-you-Can.png
END:VEVENT
END:VCALENDAR