BEGIN:VCALENDAR
VERSION:2.0
PRODID:-//Positively Osceola - ECPv6.15.20//NONSGML v1.0//EN
CALSCALE:GREGORIAN
METHOD:PUBLISH
X-ORIGINAL-URL:https://www.positivelyosceola.com
X-WR-CALDESC:Events for Positively Osceola
REFRESH-INTERVAL;VALUE=DURATION:PT1H
X-Robots-Tag:noindex
X-PUBLISHED-TTL:PT1H
BEGIN:VTIMEZONE
TZID:America/New_York
BEGIN:DAYLIGHT
TZOFFSETFROM:-0500
TZOFFSETTO:-0400
TZNAME:EDT
DTSTART:20250309T070000
END:DAYLIGHT
BEGIN:STANDARD
TZOFFSETFROM:-0400
TZOFFSETTO:-0500
TZNAME:EST
DTSTART:20251102T060000
END:STANDARD
BEGIN:DAYLIGHT
TZOFFSETFROM:-0500
TZOFFSETTO:-0400
TZNAME:EDT
DTSTART:20260308T070000
END:DAYLIGHT
BEGIN:STANDARD
TZOFFSETFROM:-0400
TZOFFSETTO:-0500
TZNAME:EST
DTSTART:20261101T060000
END:STANDARD
BEGIN:DAYLIGHT
TZOFFSETFROM:-0500
TZOFFSETTO:-0400
TZNAME:EDT
DTSTART:20270314T070000
END:DAYLIGHT
BEGIN:STANDARD
TZOFFSETFROM:-0400
TZOFFSETTO:-0500
TZNAME:EST
DTSTART:20271107T060000
END:STANDARD
END:VTIMEZONE
BEGIN:VEVENT
DTSTART;TZID=America/New_York:20260704T190000
DTEND;TZID=America/New_York:20260704T213000
DTSTAMP:20260425T180303
CREATED:20260212T022032Z
LAST-MODIFIED:20260212T022032Z
UID:10005537-1783191600-1783200600@www.positivelyosceola.com
SUMMARY:Monumental Fourth of July
DESCRIPTION:Celebrate Independence Day in a monumental way at Kissimmee Lakefront Park! This is our biggest event of the year and it’s packed with live entertainment\, activities for all ages\, and of course our fireworks grand finale at 9 PM. \nFestival Lawn:Enjoy a live performance by Anti Idol as they bring the energy and music to keep the celebration going. \nVeterans Lawn:Let the kids burn off some energy at the KUA Kids Power Zone\, dance along with live music\, grab some free glow-in-the-dark giveaways\, and stop by for face painting fun. \nLakeview Drive:Come hungry—our food truck lineup will have something for everyone!
URL:https://www.positivelyosceola.com/event/monumental-fourth-of-july/
LOCATION:Kissimmee Lakefront Park
CATEGORIES:City of Kissimmee
ATTACH;FMTTYPE=image/png:https://www.positivelyosceola.com/wp-content/uploads/2026/02/Screenshot-2026-02-11-at-9.18.27-PM.png
END:VEVENT
END:VCALENDAR