BEGIN:VCALENDAR
VERSION:2.0
PRODID:-//Positively Osceola - ECPv6.15.20//NONSGML v1.0//EN
CALSCALE:GREGORIAN
METHOD:PUBLISH
X-WR-CALNAME:Positively Osceola
X-ORIGINAL-URL:https://www.positivelyosceola.com
X-WR-CALDESC:Events for Positively Osceola
REFRESH-INTERVAL;VALUE=DURATION:PT1H
X-Robots-Tag:noindex
X-PUBLISHED-TTL:PT1H
BEGIN:VTIMEZONE
TZID:America/New_York
BEGIN:DAYLIGHT
TZOFFSETFROM:-0500
TZOFFSETTO:-0400
TZNAME:EDT
DTSTART:20250309T070000
END:DAYLIGHT
BEGIN:STANDARD
TZOFFSETFROM:-0400
TZOFFSETTO:-0500
TZNAME:EST
DTSTART:20251102T060000
END:STANDARD
BEGIN:DAYLIGHT
TZOFFSETFROM:-0500
TZOFFSETTO:-0400
TZNAME:EDT
DTSTART:20260308T070000
END:DAYLIGHT
BEGIN:STANDARD
TZOFFSETFROM:-0400
TZOFFSETTO:-0500
TZNAME:EST
DTSTART:20261101T060000
END:STANDARD
BEGIN:DAYLIGHT
TZOFFSETFROM:-0500
TZOFFSETTO:-0400
TZNAME:EDT
DTSTART:20270314T070000
END:DAYLIGHT
BEGIN:STANDARD
TZOFFSETFROM:-0400
TZOFFSETTO:-0500
TZNAME:EST
DTSTART:20271107T060000
END:STANDARD
END:VTIMEZONE
BEGIN:VEVENT
DTSTART;TZID=America/New_York:20260425T100000
DTEND;TZID=America/New_York:20260425T130000
DTSTAMP:20260422T234006
CREATED:20260212T015027Z
LAST-MODIFIED:20260212T015027Z
UID:10005529-1777111200-1777122000@www.positivelyosceola.com
SUMMARY:Earth Day Celebration
DESCRIPTION:Join us Saturday\, April 25\, for a day filled with local vendors\, eco presentations\, live animal encounters\, young entrepreneurs market\, kids crafts\, shred truck\, and so much more!\nEvent details:– Saturday\, April 25th– 10 A.M. to 1 P.M.– At Veterans Memorial Library – St. Cloud Branch (810 13th St)– Free Admission\nThis event is sponsored by the City of St. Cloud\, Osceola Library System – Veterans Memorial Library\, Toho Water Authority\, and FRPA.
URL:https://www.positivelyosceola.com/event/earth-day-celebration/
LOCATION:Veterans Memorial Library St. Cloud Branch\, 810 13th St\, St. Cloud\, FL\, 34769
CATEGORIES:City of St. Cloud
ATTACH;FMTTYPE=image/png:https://www.positivelyosceola.com/wp-content/uploads/2026/02/Screenshot-2026-02-11-at-8.47.43-PM.png
END:VEVENT
END:VCALENDAR