BEGIN:VCALENDAR
VERSION:2.0
PRODID:-//Positively Osceola - ECPv6.15.20//NONSGML v1.0//EN
CALSCALE:GREGORIAN
METHOD:PUBLISH
X-WR-CALNAME:Positively Osceola
X-ORIGINAL-URL:https://www.positivelyosceola.com
X-WR-CALDESC:Events for Positively Osceola
REFRESH-INTERVAL;VALUE=DURATION:PT1H
X-Robots-Tag:noindex
X-PUBLISHED-TTL:PT1H
BEGIN:VTIMEZONE
TZID:America/New_York
BEGIN:DAYLIGHT
TZOFFSETFROM:-0500
TZOFFSETTO:-0400
TZNAME:EDT
DTSTART:20240310T070000
END:DAYLIGHT
BEGIN:STANDARD
TZOFFSETFROM:-0400
TZOFFSETTO:-0500
TZNAME:EST
DTSTART:20241103T060000
END:STANDARD
BEGIN:DAYLIGHT
TZOFFSETFROM:-0500
TZOFFSETTO:-0400
TZNAME:EDT
DTSTART:20250309T070000
END:DAYLIGHT
BEGIN:STANDARD
TZOFFSETFROM:-0400
TZOFFSETTO:-0500
TZNAME:EST
DTSTART:20251102T060000
END:STANDARD
BEGIN:DAYLIGHT
TZOFFSETFROM:-0500
TZOFFSETTO:-0400
TZNAME:EDT
DTSTART:20260308T070000
END:DAYLIGHT
BEGIN:STANDARD
TZOFFSETFROM:-0400
TZOFFSETTO:-0500
TZNAME:EST
DTSTART:20261101T060000
END:STANDARD
END:VTIMEZONE
BEGIN:VEVENT
DTSTART;TZID=America/New_York:20251122T100000
DTEND;TZID=America/New_York:20251122T150000
DTSTAMP:20260423T060017
CREATED:20251024T124459Z
LAST-MODIFIED:20251024T124459Z
UID:10004559-1763805600-1763823600@www.positivelyosceola.com
SUMMARY:Welcome Home\, Vietnam Heroes
DESCRIPTION:Join the Museum of Military History in Kissimmee as we honor and celebrate our Vietnam veterans — brave men and women who gave so much\, yet often returned home to far too little recognition. This free community event includes museum admission\, vendors\, exhibitors\, and veteran resources. It’s a day to listen\, learn\, and say thank you to those who served — and to the families who stood proudly beside them.\n\n\nThen\, stay for the evening dinner at 5:30 p.m. ($50 per seat / $400 per table). Limited seating — RSVP required.\n\n\n\n\nWelcome home — you were never forgotten.\nCall 407-507-3894 for details or reservations.
URL:https://www.positivelyosceola.com/event/welcome-home-vietnam-heroes/
LOCATION:Museum of Military History\, 5210 W Irlo Bronson Memorial Hwy\, Kissimmee\, FL
CATEGORIES:Experience Kissimmee
ATTACH;FMTTYPE=image/png:https://www.positivelyosceola.com/wp-content/uploads/2025/10/Untitled-design-17.png
END:VEVENT
END:VCALENDAR