BEGIN:VCALENDAR
VERSION:2.0
PRODID:-//Positively Osceola - ECPv6.15.20//NONSGML v1.0//EN
CALSCALE:GREGORIAN
METHOD:PUBLISH
X-WR-CALNAME:Positively Osceola
X-ORIGINAL-URL:https://www.positivelyosceola.com
X-WR-CALDESC:Events for Positively Osceola
REFRESH-INTERVAL;VALUE=DURATION:PT1H
X-Robots-Tag:noindex
X-PUBLISHED-TTL:PT1H
BEGIN:VTIMEZONE
TZID:America/New_York
BEGIN:DAYLIGHT
TZOFFSETFROM:-0500
TZOFFSETTO:-0400
TZNAME:EDT
DTSTART:20230312T070000
END:DAYLIGHT
BEGIN:STANDARD
TZOFFSETFROM:-0400
TZOFFSETTO:-0500
TZNAME:EST
DTSTART:20231105T060000
END:STANDARD
BEGIN:DAYLIGHT
TZOFFSETFROM:-0500
TZOFFSETTO:-0400
TZNAME:EDT
DTSTART:20240310T070000
END:DAYLIGHT
BEGIN:STANDARD
TZOFFSETFROM:-0400
TZOFFSETTO:-0500
TZNAME:EST
DTSTART:20241103T060000
END:STANDARD
BEGIN:DAYLIGHT
TZOFFSETFROM:-0500
TZOFFSETTO:-0400
TZNAME:EDT
DTSTART:20250309T070000
END:DAYLIGHT
BEGIN:STANDARD
TZOFFSETFROM:-0400
TZOFFSETTO:-0500
TZNAME:EST
DTSTART:20251102T060000
END:STANDARD
END:VTIMEZONE
BEGIN:VEVENT
DTSTART;TZID=America/New_York:20240907T170000
DTEND;TZID=America/New_York:20240908T000000
DTSTAMP:20260421T050422
CREATED:20240429T135052Z
LAST-MODIFIED:20240730T202851Z
UID:10000499-1725728400-1725753600@www.positivelyosceola.com
SUMMARY:Guardian ad Litem Foundation of Osceola County Black and White Gala
DESCRIPTION:Join the Guardian ad Litem Foundation of Osceola County for their Black and White Gala on September 7th\, at the Omni Hotel at Champions Gate. \nFrom 6 pm to midnight\, guests are invited to don black and white formal attire and come together to support the advocacy for abused\, neglected\, and abandoned children. It’s an evening of elegance and compassion dedicated to a noble cause. For more details\, please visit www.GALOsceola.org. Deadline August 15\, 2024.
URL:https://www.positivelyosceola.com/event/guardian-ad-litem-foundation-of-osceola-county-black-and-white-gala/
LOCATION:Omni Hotel\, 1500 Masters Blvd\, Championsgate\, FL\, 33896
CATEGORIES:Guardian Ad Litem Foundation of Osceola County
ATTACH;FMTTYPE=image/jpeg:https://www.positivelyosceola.com/wp-content/uploads/2024/04/Black-and-White-Gala.jpg
END:VEVENT
BEGIN:VEVENT
DTSTART;TZID=America/New_York:20240427T070000
DTEND;TZID=America/New_York:20240427T140000
DTSTAMP:20260421T050422
CREATED:20240329T155457Z
LAST-MODIFIED:20240329T155457Z
UID:10000102-1714201200-1714226400@www.positivelyosceola.com
SUMMARY:Annual Golf Tournament - Guardian Ad Litem Foundation of Osceola County
DESCRIPTION:Join the Guardian Ad Litem Foundation of Osceola County for their Annual Golf Tournament with 100% of all proceeds benefiting abused\, abandoned and neglected children of Osceola County.
URL:https://www.positivelyosceola.com/event/annual-golf-tournament-guardian-ad-litem-foundation-of-osceola-county/
LOCATION:Royal St. Cloud Golf Links\, 5310 Michigan Ave\, St. Cloud\, FL\, 34772
CATEGORIES:Guardian Ad Litem Foundation of Osceola County
ATTACH;FMTTYPE=image/jpeg:https://www.positivelyosceola.com/wp-content/uploads/2024/03/Annual-Golf-Tournament.jpg
END:VEVENT
END:VCALENDAR