BEGIN:VCALENDAR
VERSION:2.0
PRODID:-//Positively Osceola - ECPv6.15.20//NONSGML v1.0//EN
CALSCALE:GREGORIAN
METHOD:PUBLISH
X-ORIGINAL-URL:https://www.positivelyosceola.com
X-WR-CALDESC:Events for Positively Osceola
REFRESH-INTERVAL;VALUE=DURATION:PT1H
X-Robots-Tag:noindex
X-PUBLISHED-TTL:PT1H
BEGIN:VTIMEZONE
TZID:America/New_York
BEGIN:DAYLIGHT
TZOFFSETFROM:-0500
TZOFFSETTO:-0400
TZNAME:EDT
DTSTART:20230312T070000
END:DAYLIGHT
BEGIN:STANDARD
TZOFFSETFROM:-0400
TZOFFSETTO:-0500
TZNAME:EST
DTSTART:20231105T060000
END:STANDARD
BEGIN:DAYLIGHT
TZOFFSETFROM:-0500
TZOFFSETTO:-0400
TZNAME:EDT
DTSTART:20240310T070000
END:DAYLIGHT
BEGIN:STANDARD
TZOFFSETFROM:-0400
TZOFFSETTO:-0500
TZNAME:EST
DTSTART:20241103T060000
END:STANDARD
BEGIN:DAYLIGHT
TZOFFSETFROM:-0500
TZOFFSETTO:-0400
TZNAME:EDT
DTSTART:20250309T070000
END:DAYLIGHT
BEGIN:STANDARD
TZOFFSETFROM:-0400
TZOFFSETTO:-0500
TZNAME:EST
DTSTART:20251102T060000
END:STANDARD
END:VTIMEZONE
BEGIN:VEVENT
DTSTART;TZID=America/New_York:20240824T110000
DTEND;TZID=America/New_York:20240824T150000
DTSTAMP:20260421T061438
CREATED:20240719T031916Z
LAST-MODIFIED:20240719T031916Z
UID:10000647-1724497200-1724511600@www.positivelyosceola.com
SUMMARY:iRISE Expo 2024
DESCRIPTION:iRISE Expo Empowers People To Grow Personally\, Professionally\, And In Their Family Relationships\, Creating A Positive Impact On Communities Through A Culture Of Learning And Growth. \niRISE Expo 2024 will have a “Youth Empowerment and Awareness” workshop for this year’s event.\nEngaging Topics: \n\nAnti-Bullying Awareness\nBuilding Resilience\nPositive Self-Image\nManaging Emotions\nUnderstanding Mental Health\n\nFor More Information visit iriseexpo.com
URL:https://www.positivelyosceola.com/event/irise-expo-2024/
LOCATION:Osceola Heritage Park
CATEGORIES:iRISE Expo,Osceola Heritage Park
ATTACH;FMTTYPE=image/jpeg:https://www.positivelyosceola.com/wp-content/uploads/2024/07/iRISE-Expo.jpg
END:VEVENT
END:VCALENDAR