BEGIN:VCALENDAR
VERSION:2.0
PRODID:-//Positively Osceola - ECPv6.15.20//NONSGML v1.0//EN
CALSCALE:GREGORIAN
METHOD:PUBLISH
X-WR-CALNAME:Positively Osceola
X-ORIGINAL-URL:https://www.positivelyosceola.com
X-WR-CALDESC:Events for Positively Osceola
REFRESH-INTERVAL;VALUE=DURATION:PT1H
X-Robots-Tag:noindex
X-PUBLISHED-TTL:PT1H
BEGIN:VTIMEZONE
TZID:America/New_York
BEGIN:DAYLIGHT
TZOFFSETFROM:-0500
TZOFFSETTO:-0400
TZNAME:EDT
DTSTART:20250309T070000
END:DAYLIGHT
BEGIN:STANDARD
TZOFFSETFROM:-0400
TZOFFSETTO:-0500
TZNAME:EST
DTSTART:20251102T060000
END:STANDARD
BEGIN:DAYLIGHT
TZOFFSETFROM:-0500
TZOFFSETTO:-0400
TZNAME:EDT
DTSTART:20260308T070000
END:DAYLIGHT
BEGIN:STANDARD
TZOFFSETFROM:-0400
TZOFFSETTO:-0500
TZNAME:EST
DTSTART:20261101T060000
END:STANDARD
BEGIN:DAYLIGHT
TZOFFSETFROM:-0500
TZOFFSETTO:-0400
TZNAME:EDT
DTSTART:20270314T070000
END:DAYLIGHT
BEGIN:STANDARD
TZOFFSETFROM:-0400
TZOFFSETTO:-0500
TZNAME:EST
DTSTART:20271107T060000
END:STANDARD
END:VTIMEZONE
BEGIN:VEVENT
DTSTART;TZID=America/New_York:20260131T130000
DTEND;TZID=America/New_York:20260131T160000
DTSTAMP:20260425T074352
CREATED:20260103T192156Z
LAST-MODIFIED:20260103T192156Z
UID:10005422-1769864400-1769875200@www.positivelyosceola.com
SUMMARY:Community STEM Day at NeoCity
DESCRIPTION:Join us for a fun\, hands-on afternoon exploring science\, technology\, engineering\, and math at NeoCity!\nCommunity STEM Day is perfect for families and curious minds of all ages\, featuring interactive activities\, learning stations\, and opportunities to explore innovation up close.\n\nCome learn\, explore\, and discover what’s possible!
URL:https://www.positivelyosceola.com/event/community-stem-day-at-neocity/
LOCATION:NeoCity OC Building\, 194 NeoCity Way\, Kissimmee\, FL\, 34744
CATEGORIES:NeoCity
ATTACH;FMTTYPE=image/png:https://www.positivelyosceola.com/wp-content/uploads/2026/01/Screenshot-2026-01-03-at-2.17.20-PM.png
END:VEVENT
END:VCALENDAR