BEGIN:VCALENDAR
VERSION:2.0
PRODID:-//Positively Osceola - ECPv6.15.20//NONSGML v1.0//EN
CALSCALE:GREGORIAN
METHOD:PUBLISH
X-ORIGINAL-URL:https://www.positivelyosceola.com
X-WR-CALDESC:Events for Positively Osceola
REFRESH-INTERVAL;VALUE=DURATION:PT1H
X-Robots-Tag:noindex
X-PUBLISHED-TTL:PT1H
BEGIN:VTIMEZONE
TZID:America/New_York
BEGIN:DAYLIGHT
TZOFFSETFROM:-0500
TZOFFSETTO:-0400
TZNAME:EDT
DTSTART:20240310T070000
END:DAYLIGHT
BEGIN:STANDARD
TZOFFSETFROM:-0400
TZOFFSETTO:-0500
TZNAME:EST
DTSTART:20241103T060000
END:STANDARD
BEGIN:DAYLIGHT
TZOFFSETFROM:-0500
TZOFFSETTO:-0400
TZNAME:EDT
DTSTART:20250309T070000
END:DAYLIGHT
BEGIN:STANDARD
TZOFFSETFROM:-0400
TZOFFSETTO:-0500
TZNAME:EST
DTSTART:20251102T060000
END:STANDARD
BEGIN:DAYLIGHT
TZOFFSETFROM:-0500
TZOFFSETTO:-0400
TZNAME:EDT
DTSTART:20260308T070000
END:DAYLIGHT
BEGIN:STANDARD
TZOFFSETFROM:-0400
TZOFFSETTO:-0500
TZNAME:EST
DTSTART:20261101T060000
END:STANDARD
END:VTIMEZONE
BEGIN:VEVENT
DTSTART;TZID=America/New_York:20251118T120000
DTEND;TZID=America/New_York:20251118T140000
DTSTAMP:20260423T105351
CREATED:20251102T221012Z
LAST-MODIFIED:20251102T221012Z
UID:10004592-1763467200-1763474400@www.positivelyosceola.com
SUMMARY:Orlando Health St. Cloud Hospital Hiring Event
DESCRIPTION:We are recruiting for the below positions: • Environmental Services• Food and Nutrition Services• Guest Services• Security• Patient Access/Financial Counselors• Patient Transporters• Facilities (Maintenance/Engineering)\n\nRegister at: https://v3.rivs.com/scheduler/i/phwida6b37qn7b
URL:https://www.positivelyosceola.com/event/orlando-health-st-cloud-hospital-hiring-event/
LOCATION:Orlando Health St. Cloud Hospital\, 1600 Budinger Ave\, St. Cloud\, FL\, 34769
CATEGORIES:Orlando Health
ATTACH;FMTTYPE=image/png:https://www.positivelyosceola.com/wp-content/uploads/2025/11/Screenshot-2025-11-02-at-5.06.20-PM.png
END:VEVENT
END:VCALENDAR