BEGIN:VCALENDAR
VERSION:2.0
PRODID:-//Positively Osceola - ECPv6.15.20//NONSGML v1.0//EN
CALSCALE:GREGORIAN
METHOD:PUBLISH
X-WR-CALNAME:Positively Osceola
X-ORIGINAL-URL:https://www.positivelyosceola.com
X-WR-CALDESC:Events for Positively Osceola
REFRESH-INTERVAL;VALUE=DURATION:PT1H
X-Robots-Tag:noindex
X-PUBLISHED-TTL:PT1H
BEGIN:VTIMEZONE
TZID:America/New_York
BEGIN:DAYLIGHT
TZOFFSETFROM:-0500
TZOFFSETTO:-0400
TZNAME:EDT
DTSTART:20250309T070000
END:DAYLIGHT
BEGIN:STANDARD
TZOFFSETFROM:-0400
TZOFFSETTO:-0500
TZNAME:EST
DTSTART:20251102T060000
END:STANDARD
BEGIN:DAYLIGHT
TZOFFSETFROM:-0500
TZOFFSETTO:-0400
TZNAME:EDT
DTSTART:20260308T070000
END:DAYLIGHT
BEGIN:STANDARD
TZOFFSETFROM:-0400
TZOFFSETTO:-0500
TZNAME:EST
DTSTART:20261101T060000
END:STANDARD
BEGIN:DAYLIGHT
TZOFFSETFROM:-0500
TZOFFSETTO:-0400
TZNAME:EDT
DTSTART:20270314T070000
END:DAYLIGHT
BEGIN:STANDARD
TZOFFSETFROM:-0400
TZOFFSETTO:-0500
TZNAME:EST
DTSTART:20271107T060000
END:STANDARD
END:VTIMEZONE
BEGIN:VEVENT
DTSTART;TZID=America/New_York:20260213T170000
DTEND;TZID=America/New_York:20260222T000000
DTSTAMP:20260425T081309
CREATED:20260118T232020Z
LAST-MODIFIED:20260118T232020Z
UID:10005474-1771002000-1771718400@www.positivelyosceola.com
SUMMARY:2026 Osceola County Fair Opening Day
DESCRIPTION:THE OSCEOLA COUNTY FAIR OPENING DAYOsceola County’s largest annual event\, the Osceola County Fair (KVLS) returns to Osceola Heritage Park from February 13–22\, 2026\, bringing ten days of classic fair fun\, rides\, food\, agriculture\, and community traditions to the heart of Osceola County. Opening Day: Friday\, February 13\, 2026 Gate & Midway Hours: 5PM – Midnight (subject to change) Gate Admission: $2 Kids 4 & under: FREE Active-Duty Military\, Veterans & First Responders: FREE with ID Rides: $2 rides all day Food Drive Bonus: $2 admission OR FREE with 4 cans of food per personThis year’s fair theme\, “The Legacy: Moving Forward by Looking Back\,” celebrates generations of agriculture\, entertainment\, and family traditions that make the Osceola County Fair a must-attend event every year. Osceola Heritage Park February 13–22\, 2026 Come for the rides. Stay for the memories. Celebrate Opening Day at the Fair! —>For more info visit OsceolaCountyFair.com
URL:https://www.positivelyosceola.com/event/2026-osceola-county-fair-opening-day/
LOCATION:Osceola Heritage Park
CATEGORIES:Osceola County Fair
ATTACH;FMTTYPE=image/png:https://www.positivelyosceola.com/wp-content/uploads/2026/01/Screenshot-2026-01-18-at-6.17.24-PM.png
END:VEVENT
END:VCALENDAR