BEGIN:VCALENDAR
VERSION:2.0
PRODID:-//Positively Osceola - ECPv6.15.20//NONSGML v1.0//EN
CALSCALE:GREGORIAN
METHOD:PUBLISH
X-ORIGINAL-URL:https://www.positivelyosceola.com
X-WR-CALDESC:Events for Positively Osceola
REFRESH-INTERVAL;VALUE=DURATION:PT1H
X-Robots-Tag:noindex
X-PUBLISHED-TTL:PT1H
BEGIN:VTIMEZONE
TZID:America/New_York
BEGIN:DAYLIGHT
TZOFFSETFROM:-0500
TZOFFSETTO:-0400
TZNAME:EDT
DTSTART:20240310T070000
END:DAYLIGHT
BEGIN:STANDARD
TZOFFSETFROM:-0400
TZOFFSETTO:-0500
TZNAME:EST
DTSTART:20241103T060000
END:STANDARD
BEGIN:DAYLIGHT
TZOFFSETFROM:-0500
TZOFFSETTO:-0400
TZNAME:EDT
DTSTART:20250309T070000
END:DAYLIGHT
BEGIN:STANDARD
TZOFFSETFROM:-0400
TZOFFSETTO:-0500
TZNAME:EST
DTSTART:20251102T060000
END:STANDARD
BEGIN:DAYLIGHT
TZOFFSETFROM:-0500
TZOFFSETTO:-0400
TZNAME:EDT
DTSTART:20260308T070000
END:DAYLIGHT
BEGIN:STANDARD
TZOFFSETFROM:-0400
TZOFFSETTO:-0500
TZNAME:EST
DTSTART:20261101T060000
END:STANDARD
END:VTIMEZONE
BEGIN:VEVENT
DTSTART;TZID=America/New_York:20251112T100000
DTEND;TZID=America/New_York:20251112T140000
DTSTAMP:20260423T163849
CREATED:20251024T140055Z
LAST-MODIFIED:20251024T140055Z
UID:10004571-1762941600-1762956000@www.positivelyosceola.com
SUMMARY:Veterans Appreciation Day Ceremony
DESCRIPTION:Sheriff Christopher A. Blackmon and the Osceola County Sheriff’s Office invite you to the 4th Annual Veterans Appreciation Day Ceremony: Wednesday\, November 12\, 2025\, 10:00 a.m. – 2:00 p.m.\, McCormick Research Institute – 4651 Rummel Road\, St. Cloud\, FL 34771\n\n\nLet’s come together to recognize and celebrate the service and sacrifice of our veterans. Vendors will be on-site sharing valuable veteran resources and outreach programs. Lunch will be provided for attendees.\n\n\nPlease RSVP by November 6\, 2025 to D/S Emil Mendez at outreach@osceolasheriff.org.
URL:https://www.positivelyosceola.com/event/veterans-appreciation-day-ceremony/
LOCATION:McCormick Research Institute\, 4651 Rummell Rd\, St. Cloud\, FL\, 34771
CATEGORIES:Osceola County Sheriff's Office
ATTACH;FMTTYPE=image/png:https://www.positivelyosceola.com/wp-content/uploads/2025/10/Untitled-design-23.png
END:VEVENT
END:VCALENDAR