BEGIN:VCALENDAR
VERSION:2.0
PRODID:-//Positively Osceola - ECPv6.15.20//NONSGML v1.0//EN
CALSCALE:GREGORIAN
METHOD:PUBLISH
X-WR-CALNAME:Positively Osceola
X-ORIGINAL-URL:https://www.positivelyosceola.com
X-WR-CALDESC:Events for Positively Osceola
REFRESH-INTERVAL;VALUE=DURATION:PT1H
X-Robots-Tag:noindex
X-PUBLISHED-TTL:PT1H
BEGIN:VTIMEZONE
TZID:America/New_York
BEGIN:DAYLIGHT
TZOFFSETFROM:-0500
TZOFFSETTO:-0400
TZNAME:EDT
DTSTART:20230312T070000
END:DAYLIGHT
BEGIN:STANDARD
TZOFFSETFROM:-0400
TZOFFSETTO:-0500
TZNAME:EST
DTSTART:20231105T060000
END:STANDARD
BEGIN:DAYLIGHT
TZOFFSETFROM:-0500
TZOFFSETTO:-0400
TZNAME:EDT
DTSTART:20240310T070000
END:DAYLIGHT
BEGIN:STANDARD
TZOFFSETFROM:-0400
TZOFFSETTO:-0500
TZNAME:EST
DTSTART:20241103T060000
END:STANDARD
BEGIN:DAYLIGHT
TZOFFSETFROM:-0500
TZOFFSETTO:-0400
TZNAME:EDT
DTSTART:20250309T070000
END:DAYLIGHT
BEGIN:STANDARD
TZOFFSETFROM:-0400
TZOFFSETTO:-0500
TZNAME:EST
DTSTART:20251102T060000
END:STANDARD
END:VTIMEZONE
BEGIN:VEVENT
DTSTART;TZID=America/New_York:20241214T120000
DTEND;TZID=America/New_York:20241214T140000
DTSTAMP:20260421T050312
CREATED:20241209T030842Z
LAST-MODIFIED:20241209T030842Z
UID:10001876-1734177600-1734184800@www.positivelyosceola.com
SUMMARY:Wreaths Across America
DESCRIPTION:Please join us for 2024 Wreaths Across America Ceremony to honor our Veterans at Mount Peace Cemetery.
URL:https://www.positivelyosceola.com/event/wreaths-across-america/
LOCATION:Mount Peace Cemetery\, 775 E 10th St\, St. Cloud\, 34769
CATEGORIES:Wreaths Across America
ATTACH;FMTTYPE=image/jpeg:https://www.positivelyosceola.com/wp-content/uploads/2024/12/c3f5eaff-c3d0-4538-aa70-337dd23a8aca.jpg
END:VEVENT
END:VCALENDAR