BEGIN:VCALENDAR
VERSION:2.0
PRODID:-//Positively Osceola - ECPv6.15.20//NONSGML v1.0//EN
CALSCALE:GREGORIAN
METHOD:PUBLISH
X-ORIGINAL-URL:https://www.positivelyosceola.com
X-WR-CALDESC:Events for Positively Osceola
REFRESH-INTERVAL;VALUE=DURATION:PT1H
X-Robots-Tag:noindex
X-PUBLISHED-TTL:PT1H
BEGIN:VTIMEZONE
TZID:America/New_York
BEGIN:DAYLIGHT
TZOFFSETFROM:-0500
TZOFFSETTO:-0400
TZNAME:EDT
DTSTART:20250309T070000
END:DAYLIGHT
BEGIN:STANDARD
TZOFFSETFROM:-0400
TZOFFSETTO:-0500
TZNAME:EST
DTSTART:20251102T060000
END:STANDARD
BEGIN:DAYLIGHT
TZOFFSETFROM:-0500
TZOFFSETTO:-0400
TZNAME:EDT
DTSTART:20260308T070000
END:DAYLIGHT
BEGIN:STANDARD
TZOFFSETFROM:-0400
TZOFFSETTO:-0500
TZNAME:EST
DTSTART:20261101T060000
END:STANDARD
BEGIN:DAYLIGHT
TZOFFSETFROM:-0500
TZOFFSETTO:-0400
TZNAME:EDT
DTSTART:20270314T070000
END:DAYLIGHT
BEGIN:STANDARD
TZOFFSETFROM:-0400
TZOFFSETTO:-0500
TZNAME:EST
DTSTART:20271107T060000
END:STANDARD
END:VTIMEZONE
BEGIN:VEVENT
DTSTART;TZID=America/New_York:20260523T090000
DTEND;TZID=America/New_York:20260523T120000
DTSTAMP:20260422T134128
CREATED:20260302T063548Z
LAST-MODIFIED:20260302T063548Z
UID:10005547-1779526800-1779537600@www.positivelyosceola.com
SUMMARY:Kissimmee Collectorfest Spring 2026
DESCRIPTION:Florida Toy Shows will present the Kissimmee Collectorfest Spring 2026\, a one-day-only event set to take place in an expanded 20\,000-plus-square-foot venue. Organizers say the larger space will allow for more than 100 vendor tables\, offering attendees a significantly expanded selection of merchandise. \nThe event will run from 9 a.m. to 4 p.m. and will feature toys\, games\, comics\, and a wide range of pop culture collectibles. Organizers highlight the addition of new vendors and new inventory\, promising a large variety of items for collectors and fans. \nAdmission is priced at $15 from 9 a.m. to 12 p.m. and $10 from 12 p.m. to 4 p.m.\, with free entry for children under 12. Free Hot Wheels will be available for children while supplies last. Guest appearances are to be announced. \nAttendees can expect to find vintage and modern toys\, comics\, Pokémon cards\, Hot Wheels\, retro gaming items\, artwork\, and additional pop culture merchandise.
URL:https://www.positivelyosceola.com/event/kissimmee-collectorfest-spring-2026/
LOCATION:Osceola Heritage Park
ATTACH;FMTTYPE=image/jpeg:https://www.positivelyosceola.com/wp-content/uploads/2026/03/626334710_1507279444737017_1427115325944712776_n.jpg
ORGANIZER;CN="Florida Toy Shows Expos":MAILTO:floridatoyshows@gmail.com
END:VEVENT
END:VCALENDAR