BEGIN:VCALENDAR
VERSION:2.0
PRODID:-//Positively Osceola - ECPv6.15.20//NONSGML v1.0//EN
CALSCALE:GREGORIAN
METHOD:PUBLISH
X-WR-CALNAME:Positively Osceola
X-ORIGINAL-URL:https://www.positivelyosceola.com
X-WR-CALDESC:Events for Positively Osceola
REFRESH-INTERVAL;VALUE=DURATION:PT1H
X-Robots-Tag:noindex
X-PUBLISHED-TTL:PT1H
BEGIN:VTIMEZONE
TZID:America/New_York
BEGIN:DAYLIGHT
TZOFFSETFROM:-0500
TZOFFSETTO:-0400
TZNAME:EDT
DTSTART:20250309T070000
END:DAYLIGHT
BEGIN:STANDARD
TZOFFSETFROM:-0400
TZOFFSETTO:-0500
TZNAME:EST
DTSTART:20251102T060000
END:STANDARD
BEGIN:DAYLIGHT
TZOFFSETFROM:-0500
TZOFFSETTO:-0400
TZNAME:EDT
DTSTART:20260308T070000
END:DAYLIGHT
BEGIN:STANDARD
TZOFFSETFROM:-0400
TZOFFSETTO:-0500
TZNAME:EST
DTSTART:20261101T060000
END:STANDARD
BEGIN:DAYLIGHT
TZOFFSETFROM:-0500
TZOFFSETTO:-0400
TZNAME:EDT
DTSTART:20270314T070000
END:DAYLIGHT
BEGIN:STANDARD
TZOFFSETFROM:-0400
TZOFFSETTO:-0500
TZNAME:EST
DTSTART:20271107T060000
END:STANDARD
END:VTIMEZONE
BEGIN:VEVENT
DTSTART;TZID=America/New_York:20260331T180000
DTEND;TZID=America/New_York:20260331T200000
DTSTAMP:20260422T133735
CREATED:20260310T203455Z
LAST-MODIFIED:20260310T203455Z
UID:10005559-1774980000-1774987200@www.positivelyosceola.com
SUMMARY:"Cops at Pops" Saint Cloud Community Event
DESCRIPTION:The St. Cloud Police Department will host a community event titled Cops at Pops\, where officers will step behind the counter at Pops to serve ice cream to attendees. \nThe event offers residents an opportunity to meet the officers who serve the St. Cloud community\, ask questions\, take photos\, and enjoy ice cream in a relaxed and family-friendly setting. \nOrganizers say the gathering is designed to encourage positive connections between families and local law enforcement while providing a fun outing for the community. \nFamilies\, friends\, and residents are invited to attend and spend the evening enjoying ice cream and conversation with officers from St. Cloud\, Florida.
URL:https://www.positivelyosceola.com/event/cops-at-pops-saint-cloud-community-event/
LOCATION:Pops Waffle & Ice Cream Shoppe\, 1221 11th St\, Saint Cloud\, 34769\, United States
ATTACH;FMTTYPE=image/jpeg:https://www.positivelyosceola.com/wp-content/uploads/2026/03/649856519_938110848972386_6013951691181119150_n.jpg
END:VEVENT
END:VCALENDAR