BEGIN:VCALENDAR
VERSION:2.0
PRODID:-//Positively Osceola - ECPv6.15.20//NONSGML v1.0//EN
CALSCALE:GREGORIAN
METHOD:PUBLISH
X-WR-CALNAME:Positively Osceola
X-ORIGINAL-URL:https://www.positivelyosceola.com
X-WR-CALDESC:Events for Positively Osceola
REFRESH-INTERVAL;VALUE=DURATION:PT1H
X-Robots-Tag:noindex
X-PUBLISHED-TTL:PT1H
BEGIN:VTIMEZONE
TZID:America/New_York
BEGIN:DAYLIGHT
TZOFFSETFROM:-0500
TZOFFSETTO:-0400
TZNAME:EDT
DTSTART:20250309T070000
END:DAYLIGHT
BEGIN:STANDARD
TZOFFSETFROM:-0400
TZOFFSETTO:-0500
TZNAME:EST
DTSTART:20251102T060000
END:STANDARD
BEGIN:DAYLIGHT
TZOFFSETFROM:-0500
TZOFFSETTO:-0400
TZNAME:EDT
DTSTART:20260308T070000
END:DAYLIGHT
BEGIN:STANDARD
TZOFFSETFROM:-0400
TZOFFSETTO:-0500
TZNAME:EST
DTSTART:20261101T060000
END:STANDARD
BEGIN:DAYLIGHT
TZOFFSETFROM:-0500
TZOFFSETTO:-0400
TZNAME:EDT
DTSTART:20270314T070000
END:DAYLIGHT
BEGIN:STANDARD
TZOFFSETFROM:-0400
TZOFFSETTO:-0500
TZNAME:EST
DTSTART:20271107T060000
END:STANDARD
END:VTIMEZONE
BEGIN:VEVENT
DTSTART;TZID=America/New_York:20260411T100000
DTEND;TZID=America/New_York:20260411T160000
DTSTAMP:20260422T140234
CREATED:20260227T213153Z
LAST-MODIFIED:20260227T213232Z
UID:10005541-1775901600-1775923200@www.positivelyosceola.com
SUMMARY:Rotary Club of Saint Cloud 43rd Annual Spring Fling
DESCRIPTION:The 43rd Annual Spring Fling\, hosted by the Rotary Club of St. Cloud\, is taking over the St. Cloud Lakefront on Saturday\, April 11\, 2026 from 10 AM to 4 PM. This community favorite features a Bass Fishing Tournament on East Lake Tohopekaliga with a grand prize of $2\,500\, along with food trucks\, 100+ craft vendors\, live entertainment\, a Kids Zone\, and Touch-A-Truck. It’s one of St. Cloud’s most loved traditions\, bringing hundreds together for a full day of fun while supporting local scholarships and community projects. Bring the family\, bring your friends\, and bring your appetite as we pack the lakefront and make this the biggest Spring Fling yet. For full details and tournament information\, visit RotaryClubOfStCloudFL.org.
URL:https://www.positivelyosceola.com/event/rotary-club-of-saint-cloud-43rd-annual-spring-fling/
LOCATION:Saint Cloud Lakefront Park\, 1104 Lakeshore Blvd\, Saint Cloud\, Florida\, 34769\, United States
ATTACH;FMTTYPE=image/jpeg:https://www.positivelyosceola.com/wp-content/uploads/2026/02/springfling.jpg
END:VEVENT
END:VCALENDAR