BEGIN:VCALENDAR
VERSION:2.0
PRODID:-//Positively Osceola - ECPv6.15.20//NONSGML v1.0//EN
CALSCALE:GREGORIAN
METHOD:PUBLISH
X-WR-CALNAME:Positively Osceola
X-ORIGINAL-URL:https://www.positivelyosceola.com
X-WR-CALDESC:Events for Positively Osceola
REFRESH-INTERVAL;VALUE=DURATION:PT1H
X-Robots-Tag:noindex
X-PUBLISHED-TTL:PT1H
BEGIN:VTIMEZONE
TZID:America/New_York
BEGIN:DAYLIGHT
TZOFFSETFROM:-0500
TZOFFSETTO:-0400
TZNAME:EDT
DTSTART:20250309T070000
END:DAYLIGHT
BEGIN:STANDARD
TZOFFSETFROM:-0400
TZOFFSETTO:-0500
TZNAME:EST
DTSTART:20251102T060000
END:STANDARD
BEGIN:DAYLIGHT
TZOFFSETFROM:-0500
TZOFFSETTO:-0400
TZNAME:EDT
DTSTART:20260308T070000
END:DAYLIGHT
BEGIN:STANDARD
TZOFFSETFROM:-0400
TZOFFSETTO:-0500
TZNAME:EST
DTSTART:20261101T060000
END:STANDARD
BEGIN:DAYLIGHT
TZOFFSETFROM:-0500
TZOFFSETTO:-0400
TZNAME:EDT
DTSTART:20270314T070000
END:DAYLIGHT
BEGIN:STANDARD
TZOFFSETFROM:-0400
TZOFFSETTO:-0500
TZNAME:EST
DTSTART:20271107T060000
END:STANDARD
END:VTIMEZONE
BEGIN:VEVENT
DTSTART;TZID=America/New_York:20260425T100000
DTEND;TZID=America/New_York:20260425T130000
DTSTAMP:20260422T082731
CREATED:20260302T062936Z
LAST-MODIFIED:20260302T062936Z
UID:10005546-1777111200-1777122000@www.positivelyosceola.com
SUMMARY:Earth Day Celebration - Free Event
DESCRIPTION:The community will gather on Saturday\, April 25\, for a multi-feature event showcasing local vendors\, environmental presentations\, live animal encounters\, a young entrepreneurs market\, children’s crafts\, an on-site shred truck\, and additional family-friendly activities. \nThe event will take place from 10 a.m. to 1 p.m. at the Veterans Memorial Library – St. Cloud Branch\, located at 810 13th St. Admission is free to the public. \nThe event is sponsored by the City of St. Cloud\, Osceola Library System – Veterans Memorial Library\, Toho Water Authority\, and FRPA.
URL:https://www.positivelyosceola.com/event/earth-day-celebration-free-event/
LOCATION:Veterans Memorial Library St. Cloud Branch\, 810 13th St\, St. Cloud\, FL\, 34769
ATTACH;FMTTYPE=image/jpeg:https://www.positivelyosceola.com/wp-content/uploads/2026/03/627688224_1498538808940530_8993467830078136657_n.jpg
END:VEVENT
BEGIN:VEVENT
DTSTART;TZID=America/New_York:20260510T120000
DTEND;TZID=America/New_York:20260510T140000
DTSTAMP:20260422T082731
CREATED:20260318T184116Z
LAST-MODIFIED:20260318T184116Z
UID:10005566-1778414400-1778421600@www.positivelyosceola.com
SUMMARY:Mother's Day Brunch at Old Florida Riverboat Company
DESCRIPTION:Families looking to celebrate Mother’s Day can take to the water for a special brunch cruise aboard the Lillie\, offering a relaxed and scenic way to honor the occasion. \nThe Mother’s Day Brunch Cruise will feature a selection of brunch favorites\, live music\, and waterfront views\, creating a memorable experience for guests. Organizers say the event is designed to give families time to unwind together while celebrating the mothers in their lives. \nBoarding will begin at 11:30 a.m.\, with the cruise running from 12:00 p.m. to 2:00 p.m. Tickets are priced at $80 per person\, and reservations are required by May 3 due to limited seating. \nIn addition to the onboard experience\, mothers will receive special keepsakes created for the occasion\, adding a personal touch to the celebration. \nOrganizers note that space is limited and the event is expected to sell out. Reservations can be made at https://tinyurl.com/4z5xvjpt.
URL:https://www.positivelyosceola.com/event/mothers-day-brunch-at-old-florida-riverboat-company/
LOCATION:Old Florida Riverboat Company\, 1402 Lakeshore Drive\, St. Cloud\, FL\, 34772
ATTACH;FMTTYPE=image/jpeg:https://www.positivelyosceola.com/wp-content/uploads/2026/03/642843794_122164909412862339_4984735964574780603_n.jpg
END:VEVENT
BEGIN:VEVENT
DTSTART;TZID=America/New_York:20260515T070000
DTEND;TZID=America/New_York:20260515T180000
DTSTAMP:20260422T082731
CREATED:20260302T062414Z
LAST-MODIFIED:20260302T062414Z
UID:10005543-1778828400-1778868000@www.positivelyosceola.com
SUMMARY:Spring 2026 Citywide Garage Sale
DESCRIPTION:Mark your calendars! The 2026 Citywide Garage Sale is May 15-17 from 7:00AM – 6:00PM. Residents in the city limits can hold garage sales without obtaining the city permit that is normally required. To obtain a garage sale permit for other dates throughout the year\, please visit https://www.stcloudfl.gov/…/proj…/garage-sale-permit-162.
URL:https://www.positivelyosceola.com/event/spring-2026-citywide-garage-sale/2026-05-15/
LOCATION:Saint Cloud\, 1300 9th Street\, Saint Cloud\, 34769\, United States
ATTACH;FMTTYPE=image/jpeg:https://www.positivelyosceola.com/wp-content/uploads/2026/03/635158419_1507157221412022_2974738476957669038_n.jpg
END:VEVENT
BEGIN:VEVENT
DTSTART;TZID=America/New_York:20260516T070000
DTEND;TZID=America/New_York:20260516T180000
DTSTAMP:20260422T082731
CREATED:20260302T062414Z
LAST-MODIFIED:20260302T062414Z
UID:10005544-1778914800-1778954400@www.positivelyosceola.com
SUMMARY:Spring 2026 Citywide Garage Sale
DESCRIPTION:Mark your calendars! The 2026 Citywide Garage Sale is May 15-17 from 7:00AM – 6:00PM. Residents in the city limits can hold garage sales without obtaining the city permit that is normally required. To obtain a garage sale permit for other dates throughout the year\, please visit https://www.stcloudfl.gov/…/proj…/garage-sale-permit-162.
URL:https://www.positivelyosceola.com/event/spring-2026-citywide-garage-sale/2026-05-16/
LOCATION:Saint Cloud\, 1300 9th Street\, Saint Cloud\, 34769\, United States
ATTACH;FMTTYPE=image/jpeg:https://www.positivelyosceola.com/wp-content/uploads/2026/03/635158419_1507157221412022_2974738476957669038_n.jpg
END:VEVENT
BEGIN:VEVENT
DTSTART;TZID=America/New_York:20260516T100000
DTEND;TZID=America/New_York:20260516T130000
DTSTAMP:20260422T082731
CREATED:20260318T184429Z
LAST-MODIFIED:20260318T184429Z
UID:10005567-1778925600-1778936400@www.positivelyosceola.com
SUMMARY:Sami's Star-Spangled Celebration
DESCRIPTION:The community is invited to attend Sami’s Star-Spangled Celebration\, a family-friendly event set to bring patriotic fun and entertainment to St. Cloud. \nThe event will take place on Saturday\, May 16\, from 10 a.m. to 1 p.m. at the Veterans Memorial St. Cloud Library\, located at 810 13th Street. \nAttendees can expect a lively atmosphere featuring patriotic-themed crafts\, a live DJ\, inflatables\, face painting\, and a variety of activities designed for children and families. Organizers say the event is intended to give residents a chance to come together\, celebrate\, and enjoy a morning of community-focused fun. \nFamilies are encouraged to stop by\, participate in activities\, and enjoy the festive environment. \nThe event is presented with support from AdventHealth\, the official presenting sponsor.
URL:https://www.positivelyosceola.com/event/samis-star-spangled-celebration-2/
LOCATION:Veterans Memorial Library St. Cloud Branch\, 810 13th St\, St. Cloud\, FL\, 34769
ATTACH;FMTTYPE=image/jpeg:https://www.positivelyosceola.com/wp-content/uploads/2026/03/653815122_1530832302377847_256612249620125046_n.jpg
END:VEVENT
BEGIN:VEVENT
DTSTART;TZID=America/New_York:20260517T070000
DTEND;TZID=America/New_York:20260517T180000
DTSTAMP:20260422T082731
CREATED:20260302T062414Z
LAST-MODIFIED:20260302T062414Z
UID:10005545-1779001200-1779040800@www.positivelyosceola.com
SUMMARY:Spring 2026 Citywide Garage Sale
DESCRIPTION:Mark your calendars! The 2026 Citywide Garage Sale is May 15-17 from 7:00AM – 6:00PM. Residents in the city limits can hold garage sales without obtaining the city permit that is normally required. To obtain a garage sale permit for other dates throughout the year\, please visit https://www.stcloudfl.gov/…/proj…/garage-sale-permit-162.
URL:https://www.positivelyosceola.com/event/spring-2026-citywide-garage-sale/2026-05-17/
LOCATION:Saint Cloud\, 1300 9th Street\, Saint Cloud\, 34769\, United States
ATTACH;FMTTYPE=image/jpeg:https://www.positivelyosceola.com/wp-content/uploads/2026/03/635158419_1507157221412022_2974738476957669038_n.jpg
END:VEVENT
BEGIN:VEVENT
DTSTART;TZID=America/New_York:20260525T100000
DTEND;TZID=America/New_York:20260525T100000
DTSTAMP:20260422T082731
CREATED:20260330T045630Z
LAST-MODIFIED:20260330T045630Z
UID:10005575-1779703200-1779703200@www.positivelyosceola.com
SUMMARY:Memorial Day Remembrance Ceremony
DESCRIPTION:The community is invited to come together in remembrance and reflection as we honor the brave men and women who made the ultimate sacrifice in service to our nation. \nThis Memorial Day ceremony serves as a time to recognize the courage\, dedication\, and selflessness of those who gave their lives to protect our freedoms. Attendees can expect a meaningful program featuring moments of reflection\, tribute\, and unity as we gather to pay our respects. \nEvent Details:• Date: Monday\, May 25• Time: 10 a.m.• Location: Mount Peace Cemetery\, 755 East 10th Street \nAll are encouraged to attend and stand together in gratitude as we remember and honor our fallen heroes.
URL:https://www.positivelyosceola.com/event/memorial-day-remembrance-ceremony/
LOCATION:Mount Peace Cemetery\, 775 E 10th St\, St. Cloud\, 34769
ATTACH;FMTTYPE=image/jpeg:https://www.positivelyosceola.com/wp-content/uploads/2026/03/654457373_1533420712119006_5416728669224888026_n.jpg
END:VEVENT
END:VCALENDAR