BEGIN:VCALENDAR
VERSION:2.0
PRODID:-//Positively Osceola - ECPv6.15.20//NONSGML v1.0//EN
CALSCALE:GREGORIAN
METHOD:PUBLISH
X-WR-CALNAME:Positively Osceola
X-ORIGINAL-URL:https://www.positivelyosceola.com
X-WR-CALDESC:Events for Positively Osceola
REFRESH-INTERVAL;VALUE=DURATION:PT1H
X-Robots-Tag:noindex
X-PUBLISHED-TTL:PT1H
BEGIN:VTIMEZONE
TZID:America/New_York
BEGIN:DAYLIGHT
TZOFFSETFROM:-0500
TZOFFSETTO:-0400
TZNAME:EDT
DTSTART:20250309T070000
END:DAYLIGHT
BEGIN:STANDARD
TZOFFSETFROM:-0400
TZOFFSETTO:-0500
TZNAME:EST
DTSTART:20251102T060000
END:STANDARD
BEGIN:DAYLIGHT
TZOFFSETFROM:-0500
TZOFFSETTO:-0400
TZNAME:EDT
DTSTART:20260308T070000
END:DAYLIGHT
BEGIN:STANDARD
TZOFFSETFROM:-0400
TZOFFSETTO:-0500
TZNAME:EST
DTSTART:20261101T060000
END:STANDARD
BEGIN:DAYLIGHT
TZOFFSETFROM:-0500
TZOFFSETTO:-0400
TZNAME:EDT
DTSTART:20270314T070000
END:DAYLIGHT
BEGIN:STANDARD
TZOFFSETFROM:-0400
TZOFFSETTO:-0500
TZNAME:EST
DTSTART:20271107T060000
END:STANDARD
END:VTIMEZONE
BEGIN:VEVENT
DTSTART;TZID=America/New_York:20260129T123000
DTEND;TZID=America/New_York:20260129T143000
DTSTAMP:20260423T142510
CREATED:20260118T230607Z
LAST-MODIFIED:20260118T230607Z
UID:10005470-1769689800-1769697000@www.positivelyosceola.com
SUMMARY:Orlando Health Hiring Event
DESCRIPTION:This event will take place at Orlando Health Dr. P. Phillips Hospital.\nWe are recruiting for the following positions:o Registered Nurses (RN)o Nurse Residentso Graduate Nurses\nWalk-ins welcomed at this event.
URL:https://www.positivelyosceola.com/event/orlando-health-hiring-event-2/
LOCATION:Orlando Health Dr. P. Phillips\, 9400 Turkey Lake Rd\, Orlando\, FL\, 32819
CATEGORIES:Orlando Health
ATTACH;FMTTYPE=image/png:https://www.positivelyosceola.com/wp-content/uploads/2026/01/Screenshot-2026-01-18-at-6.02.36-PM.png
END:VEVENT
BEGIN:VEVENT
DTSTART;TZID=America/New_York:20260123T100000
DTEND;TZID=America/New_York:20260123T140000
DTSTAMP:20260423T142510
CREATED:20260122T185648Z
LAST-MODIFIED:20260122T185648Z
UID:10005481-1769162400-1769176800@www.positivelyosceola.com
SUMMARY:Health and Wellness Fair
DESCRIPTION:Join the Rotary Club of St. Cloud and Orlando Health St. Cloud Hospital for a day dedicated to your well-being\, featuring free screenings (including glucose checks)\, the Alzheimer’s Bus\, wellness coaching\, and mini-clinical Q&A sessions with Orlando Health professionals!
URL:https://www.positivelyosceola.com/event/health-and-wellness-fair/
LOCATION:Marina Banquet Hall\, 1104 Lakeshore Blvd\, St. Cloud\, FL\, 34769
CATEGORIES:Orlando Health
ATTACH;FMTTYPE=image/png:https://www.positivelyosceola.com/wp-content/uploads/2026/01/Screenshot-2026-01-22-at-1.50.35-PM.png
END:VEVENT
END:VCALENDAR