BEGIN:VCALENDAR
VERSION:2.0
PRODID:-//Positively Osceola - ECPv6.15.20//NONSGML v1.0//EN
CALSCALE:GREGORIAN
METHOD:PUBLISH
X-WR-CALNAME:Positively Osceola
X-ORIGINAL-URL:https://www.positivelyosceola.com
X-WR-CALDESC:Events for Positively Osceola
REFRESH-INTERVAL;VALUE=DURATION:PT1H
X-Robots-Tag:noindex
X-PUBLISHED-TTL:PT1H
BEGIN:VTIMEZONE
TZID:America/New_York
BEGIN:DAYLIGHT
TZOFFSETFROM:-0500
TZOFFSETTO:-0400
TZNAME:EDT
DTSTART:20230312T070000
END:DAYLIGHT
BEGIN:STANDARD
TZOFFSETFROM:-0400
TZOFFSETTO:-0500
TZNAME:EST
DTSTART:20231105T060000
END:STANDARD
BEGIN:DAYLIGHT
TZOFFSETFROM:-0500
TZOFFSETTO:-0400
TZNAME:EDT
DTSTART:20240310T070000
END:DAYLIGHT
BEGIN:STANDARD
TZOFFSETFROM:-0400
TZOFFSETTO:-0500
TZNAME:EST
DTSTART:20241103T060000
END:STANDARD
BEGIN:DAYLIGHT
TZOFFSETFROM:-0500
TZOFFSETTO:-0400
TZNAME:EDT
DTSTART:20250309T070000
END:DAYLIGHT
BEGIN:STANDARD
TZOFFSETFROM:-0400
TZOFFSETTO:-0500
TZNAME:EST
DTSTART:20251102T060000
END:STANDARD
BEGIN:DAYLIGHT
TZOFFSETFROM:-0500
TZOFFSETTO:-0400
TZNAME:EDT
DTSTART:20260308T070000
END:DAYLIGHT
BEGIN:STANDARD
TZOFFSETFROM:-0400
TZOFFSETTO:-0500
TZNAME:EST
DTSTART:20261101T060000
END:STANDARD
END:VTIMEZONE
BEGIN:VEVENT
DTSTART;TZID=America/New_York:20251220T100000
DTEND;TZID=America/New_York:20251220T140000
DTSTAMP:20260421T060550
CREATED:20251124T191612Z
LAST-MODIFIED:20251124T191612Z
UID:10004920-1766224800-1766239200@www.positivelyosceola.com
SUMMARY:Breakfast with Santa in Pajamas
DESCRIPTION:Join us for our 21st annual Breakfast with Santa! This year\, come cozy in your favorite pajamas for a festive and magical morning. Families will enjoy a free breakfast spread\, meet Santa\, take holiday photos\, and celebrate the season together.\nDon’t miss this heartwarming event that has been creating memories for two decades.
URL:https://www.positivelyosceola.com/event/breakfast-with-santa-in-pajamas/
LOCATION:Chambers Park Community Center\, 2380 N. Smith St\, Kissimmee\, FL\, 34744
CATEGORIES:City of Kissimmee
ATTACH;FMTTYPE=image/png:https://www.positivelyosceola.com/wp-content/uploads/2025/11/Screenshot-2025-11-24-at-2.12.43-PM.png
END:VEVENT
BEGIN:VEVENT
DTSTART;TZID=America/New_York:20251108T170000
DTEND;TZID=America/New_York:20251108T190000
DTSTAMP:20260421T060550
CREATED:20251028T230305Z
LAST-MODIFIED:20251028T230305Z
UID:10004577-1762621200-1762628400@www.positivelyosceola.com
SUMMARY:City of Kissimmee Dinner with a Veteran
DESCRIPTION:Join us for Dinner with a Veteran\, a patriotic evening honoring those who have served our country. Residents are invited to bring a veteran to this special event and enjoy a night of connection\, appreciation\, and community. The evening will feature a free dinner and opportunities to meet and network with veterans who have proudly served both past and present.\nkissimmee.gov/dinnerwithavet
URL:https://www.positivelyosceola.com/event/city-of-kissimmee-dinner-with-a-veteran-2/
LOCATION:Chambers Park Community Center\, 2380 N. Smith St\, Kissimmee\, FL\, 34744
CATEGORIES:City of Kissimmee
ATTACH;FMTTYPE=image/png:https://www.positivelyosceola.com/wp-content/uploads/2025/10/Screenshot-2025-10-28-at-6.59.11-PM.png
END:VEVENT
BEGIN:VEVENT
DTSTART;TZID=America/New_York:20250222T130000
DTEND;TZID=America/New_York:20250222T170000
DTSTAMP:20260421T060550
CREATED:20250113T012712Z
LAST-MODIFIED:20250113T012712Z
UID:10001913-1740229200-1740243600@www.positivelyosceola.com
SUMMARY:Kissimmee Black History Celebration - Chambers Park
DESCRIPTION:Come celebrate Black History Month with us at Chambers Park! \nEnjoy live music\, delicious food\, and engaging activities that showcase the rich cultural heritage and achievements of African Americans. Join the community as we honor history-makers and share in the vibrant energy of this special day. Don’t miss this fun-filled celebration of culture\, history\, and togetherness! \nFor more information: 407.518.2599
URL:https://www.positivelyosceola.com/event/kissimmee-black-history-celebration-chambers-park/
LOCATION:Chambers Park Community Center\, 2380 N. Smith St\, Kissimmee\, FL\, 34744
CATEGORIES:City of Kissimmee
ATTACH;FMTTYPE=image/jpeg:https://www.positivelyosceola.com/wp-content/uploads/2025/01/Black-History-Month.jpg
END:VEVENT
BEGIN:VEVENT
DTSTART;TZID=America/New_York:20250208T180000
DTEND;TZID=America/New_York:20250208T200000
DTSTAMP:20260421T060550
CREATED:20250113T012444Z
LAST-MODIFIED:20250113T012444Z
UID:10001912-1739037600-1739044800@www.positivelyosceola.com
SUMMARY:Kissimmee Daddy & Daughter Dance
DESCRIPTION:Create unforgettable memories at our special Daddy and Daughter Dance! Join us on Saturday\, February 8\, from 6 to 8 pm at the Chambers Park Community Center for an evening filled with music\, dancing\, and refreshments. \nFor more information: 407.518.2599
URL:https://www.positivelyosceola.com/event/kissimmee-daddy-daughter-dance/
LOCATION:Chambers Park Community Center\, 2380 N. Smith St\, Kissimmee\, FL\, 34744
CATEGORIES:City of Kissimmee
ATTACH;FMTTYPE=image/jpeg:https://www.positivelyosceola.com/wp-content/uploads/2025/01/Dance.jpg
END:VEVENT
BEGIN:VEVENT
DTSTART;TZID=America/New_York:20241109T170000
DTEND;TZID=America/New_York:20241109T190000
DTSTAMP:20260421T060550
CREATED:20241103T014817Z
LAST-MODIFIED:20241103T014817Z
UID:10001763-1731171600-1731178800@www.positivelyosceola.com
SUMMARY:City of Kissimmee Dinner with a Veteran
DESCRIPTION:Join us for a special evening dedicated to honoring those who have served our country! Bring a veteran and enjoy a free dinner. Let’s come together as a community to show our appreciation! \nDate: Saturday\, November 9\nTime: 5:00 PM – 7:00 PM\nLocation: Chambers Park Community Center\nDinner: Free for all attendees! \nMore information: 407-518-2599
URL:https://www.positivelyosceola.com/event/city-of-kissimmee-dinner-with-a-veteran/
LOCATION:Chambers Park Community Center\, 2380 N. Smith St\, Kissimmee\, FL\, 34744
CATEGORIES:City of Kissimmee
ATTACH;FMTTYPE=image/jpeg:https://www.positivelyosceola.com/wp-content/uploads/2024/11/Veteran-Dinner.jpg
END:VEVENT
BEGIN:VEVENT
DTSTART;TZID=America/New_York:20240727T100000
DTEND;TZID=America/New_York:20240727T130000
DTSTAMP:20260421T060550
CREATED:20240719T025107Z
LAST-MODIFIED:20240719T025107Z
UID:10000639-1722074400-1722085200@www.positivelyosceola.com
SUMMARY:Back to School Jam! With The City of Kissimmee
DESCRIPTION:Families\, join us at Chambers Park Community Center and receive FREE back-to-school supplies to kick off the new school year. Our annual Back to School Jam is happening on Saturday\, July 27\, from 10 am to 1 pm. We hope to see you there!
URL:https://www.positivelyosceola.com/event/back-to-school-jam-with-the-city-of-kissimmee/
LOCATION:Chambers Park Community Center\, 2380 N. Smith St\, Kissimmee\, FL\, 34744
CATEGORIES:City of Kissimmee
ATTACH;FMTTYPE=image/jpeg:https://www.positivelyosceola.com/wp-content/uploads/2024/07/Back-to-School-Jam.jpg
END:VEVENT
END:VCALENDAR