BEGIN:VCALENDAR
VERSION:2.0
PRODID:-//Positively Osceola - ECPv6.15.20//NONSGML v1.0//EN
CALSCALE:GREGORIAN
METHOD:PUBLISH
X-ORIGINAL-URL:https://www.positivelyosceola.com
X-WR-CALDESC:Events for Positively Osceola
REFRESH-INTERVAL;VALUE=DURATION:PT1H
X-Robots-Tag:noindex
X-PUBLISHED-TTL:PT1H
BEGIN:VTIMEZONE
TZID:America/New_York
BEGIN:DAYLIGHT
TZOFFSETFROM:-0500
TZOFFSETTO:-0400
TZNAME:EDT
DTSTART:20230312T070000
END:DAYLIGHT
BEGIN:STANDARD
TZOFFSETFROM:-0400
TZOFFSETTO:-0500
TZNAME:EST
DTSTART:20231105T060000
END:STANDARD
BEGIN:DAYLIGHT
TZOFFSETFROM:-0500
TZOFFSETTO:-0400
TZNAME:EDT
DTSTART:20240310T070000
END:DAYLIGHT
BEGIN:STANDARD
TZOFFSETFROM:-0400
TZOFFSETTO:-0500
TZNAME:EST
DTSTART:20241103T060000
END:STANDARD
BEGIN:DAYLIGHT
TZOFFSETFROM:-0500
TZOFFSETTO:-0400
TZNAME:EDT
DTSTART:20250309T070000
END:DAYLIGHT
BEGIN:STANDARD
TZOFFSETFROM:-0400
TZOFFSETTO:-0500
TZNAME:EST
DTSTART:20251102T060000
END:STANDARD
END:VTIMEZONE
BEGIN:VEVENT
DTSTART;TZID=America/New_York:20240612T150000
DTEND;TZID=America/New_York:20240612T160000
DTSTAMP:20260422T084218
CREATED:20240514T163516Z
LAST-MODIFIED:20240514T163516Z
UID:10000535-1718204400-1718208000@www.positivelyosceola.com
SUMMARY:Tourism Safety Coalition Meeting: Hurricane Prep with Bill Litton
DESCRIPTION:Join us at the Osceola Chamber Tourism Safety Coalition Meeting this June. This vital session will feature Emergency Management Director Bill Litton\, who will provide expert advice on preparing for the 2024 Hurricane Season. This meeting is especially crucial for business owners\, general managers\, and security managers in the West 192 area who are concerned about the safety and security of their businesses\, employees\, and customers.
URL:https://www.positivelyosceola.com/event/tourism-safety-coalition-meeting-hurricane-prep-with-bill-litton/
LOCATION:Holiday Inn Express & Suites Orlando – South Lake Buena Vista\, 5001 Calypso Cay Way\, Kissimmee\, FL\, 34746
CATEGORIES:Osceola Chamber
ATTACH;FMTTYPE=image/png:https://www.positivelyosceola.com/wp-content/uploads/2024/05/OSC-Chamber-Coalition-Meeting-Bill-Litton.png
END:VEVENT
END:VCALENDAR