BEGIN:VCALENDAR
VERSION:2.0
PRODID:-//Positively Osceola - ECPv6.15.20//NONSGML v1.0//EN
CALSCALE:GREGORIAN
METHOD:PUBLISH
X-ORIGINAL-URL:https://www.positivelyosceola.com
X-WR-CALDESC:Events for Positively Osceola
REFRESH-INTERVAL;VALUE=DURATION:PT1H
X-Robots-Tag:noindex
X-PUBLISHED-TTL:PT1H
BEGIN:VTIMEZONE
TZID:America/New_York
BEGIN:DAYLIGHT
TZOFFSETFROM:-0500
TZOFFSETTO:-0400
TZNAME:EDT
DTSTART:20230312T070000
END:DAYLIGHT
BEGIN:STANDARD
TZOFFSETFROM:-0400
TZOFFSETTO:-0500
TZNAME:EST
DTSTART:20231105T060000
END:STANDARD
BEGIN:DAYLIGHT
TZOFFSETFROM:-0500
TZOFFSETTO:-0400
TZNAME:EDT
DTSTART:20240310T070000
END:DAYLIGHT
BEGIN:STANDARD
TZOFFSETFROM:-0400
TZOFFSETTO:-0500
TZNAME:EST
DTSTART:20241103T060000
END:STANDARD
BEGIN:DAYLIGHT
TZOFFSETFROM:-0500
TZOFFSETTO:-0400
TZNAME:EDT
DTSTART:20250309T070000
END:DAYLIGHT
BEGIN:STANDARD
TZOFFSETFROM:-0400
TZOFFSETTO:-0500
TZNAME:EST
DTSTART:20251102T060000
END:STANDARD
END:VTIMEZONE
BEGIN:VEVENT
DTSTART;TZID=America/New_York:20240127T100000
DTEND;TZID=America/New_York:20240127T120000
DTSTAMP:20260423T055316
CREATED:20240121T162017Z
LAST-MODIFIED:20240121T162017Z
UID:10000046-1706349600-1706356800@www.positivelyosceola.com
SUMMARY:Mid-Year Backpack Distribution Event
DESCRIPTION:Osceola County Vice Chair and District 1 Commissioner Peggy Choudhry and the Salvation Army are giving away FREE backpacks\, school supplies\, and non-perishable food items. This is a drive-up only event.
URL:https://www.positivelyosceola.com/event/mid-year-backpack-distribution-event/
LOCATION:Intercession City Civic Center\, 1531 Imokalee St\, Intercession City\, FL\, 33848
CATEGORIES:Osceola County
ATTACH;FMTTYPE=image/jpeg:https://www.positivelyosceola.com/wp-content/uploads/2024/01/Mid-Year-Giveaway.jpg
END:VEVENT
END:VCALENDAR