BEGIN:VCALENDAR
VERSION:2.0
PRODID:-//Positively Osceola - ECPv6.15.20//NONSGML v1.0//EN
CALSCALE:GREGORIAN
METHOD:PUBLISH
X-WR-CALNAME:Positively Osceola
X-ORIGINAL-URL:https://www.positivelyosceola.com
X-WR-CALDESC:Events for Positively Osceola
REFRESH-INTERVAL;VALUE=DURATION:PT1H
X-Robots-Tag:noindex
X-PUBLISHED-TTL:PT1H
BEGIN:VTIMEZONE
TZID:America/New_York
BEGIN:DAYLIGHT
TZOFFSETFROM:-0500
TZOFFSETTO:-0400
TZNAME:EDT
DTSTART:20230312T070000
END:DAYLIGHT
BEGIN:STANDARD
TZOFFSETFROM:-0400
TZOFFSETTO:-0500
TZNAME:EST
DTSTART:20231105T060000
END:STANDARD
BEGIN:DAYLIGHT
TZOFFSETFROM:-0500
TZOFFSETTO:-0400
TZNAME:EDT
DTSTART:20240310T070000
END:DAYLIGHT
BEGIN:STANDARD
TZOFFSETFROM:-0400
TZOFFSETTO:-0500
TZNAME:EST
DTSTART:20241103T060000
END:STANDARD
BEGIN:DAYLIGHT
TZOFFSETFROM:-0500
TZOFFSETTO:-0400
TZNAME:EDT
DTSTART:20250309T070000
END:DAYLIGHT
BEGIN:STANDARD
TZOFFSETFROM:-0400
TZOFFSETTO:-0500
TZNAME:EST
DTSTART:20251102T060000
END:STANDARD
BEGIN:DAYLIGHT
TZOFFSETFROM:-0500
TZOFFSETTO:-0400
TZNAME:EDT
DTSTART:20260308T070000
END:DAYLIGHT
BEGIN:STANDARD
TZOFFSETFROM:-0400
TZOFFSETTO:-0500
TZNAME:EST
DTSTART:20261101T060000
END:STANDARD
END:VTIMEZONE
BEGIN:VEVENT
DTSTART;TZID=America/New_York:20251129T160000
DTEND;TZID=America/New_York:20251129T200000
DTSTAMP:20260423T052906
CREATED:20251124T021837Z
LAST-MODIFIED:20251124T021837Z
UID:10004914-1764432000-1764446400@www.positivelyosceola.com
SUMMARY:Starry Night Christmas Festival
DESCRIPTION:Holiday Tree Lighting Celebration at Sunbridge!Enjoy a night full of holiday fun:\nVisits with Mr. & Mrs. Claus: Snap a photo and share your wish listFestive Market: Shop for unique gifts and handcrafted treasures from local artisansMagical Snowfall: Experience a flurry of “snow” right here in Sunbridge\nFood Trucks: Savor seasonal bites and sweet treats from local favoritesLive Music & Entertainment: Enjoy cheerful tunes and holiday performancesKids Zone: Fun activities to keep little ones laughing all evening\nEnd the night gathered around as we light up the Sunbridge tree and kick off the holiday season together!\nEvent is free and open to the public.
URL:https://www.positivelyosceola.com/event/starry-night-christmas-festival/
LOCATION:Sunbridge\, 6197 Cyrils Drive\, St. Cloud\, FL\, 34771
CATEGORIES:Sunbridge
ATTACH;FMTTYPE=image/png:https://www.positivelyosceola.com/wp-content/uploads/2025/11/Screenshot-2025-11-23-at-9.14.11-PM.png
END:VEVENT
BEGIN:VEVENT
DTSTART;TZID=America/New_York:20241005T120000
DTEND;TZID=America/New_York:20241005T170000
DTSTAMP:20260423T052906
CREATED:20240921T200008Z
LAST-MODIFIED:20240921T200008Z
UID:10001650-1728129600-1728147600@www.positivelyosceola.com
SUMMARY:Hometown Harvest
DESCRIPTION:We’re looking forward to Hometown Harvest returning to Sunbridge on October 5. You’re not going to want to miss the live country band\, tractor-pulled hayrides to Pioneer Park\, pumpkin decorating station\, petting zoo\, food vendors\, photo-ops\, and much more. \n**This event is not ticketed and open to the public**
URL:https://www.positivelyosceola.com/event/hometown-harvest/
LOCATION:Sunbridge\, 6197 Cyrils Drive\, St. Cloud\, FL\, 34771
CATEGORIES:Sunbridge
ATTACH;FMTTYPE=image/jpeg:https://www.positivelyosceola.com/wp-content/uploads/2024/09/Hometown-Harvest.jpg
END:VEVENT
END:VCALENDAR