BEGIN:VCALENDAR
VERSION:2.0
PRODID:-//Positively Osceola - ECPv6.15.20//NONSGML v1.0//EN
CALSCALE:GREGORIAN
METHOD:PUBLISH
X-WR-CALNAME:Positively Osceola
X-ORIGINAL-URL:https://www.positivelyosceola.com
X-WR-CALDESC:Events for Positively Osceola
REFRESH-INTERVAL;VALUE=DURATION:PT1H
X-Robots-Tag:noindex
X-PUBLISHED-TTL:PT1H
BEGIN:VTIMEZONE
TZID:America/New_York
BEGIN:DAYLIGHT
TZOFFSETFROM:-0500
TZOFFSETTO:-0400
TZNAME:EDT
DTSTART:20230312T070000
END:DAYLIGHT
BEGIN:STANDARD
TZOFFSETFROM:-0400
TZOFFSETTO:-0500
TZNAME:EST
DTSTART:20231105T060000
END:STANDARD
BEGIN:DAYLIGHT
TZOFFSETFROM:-0500
TZOFFSETTO:-0400
TZNAME:EDT
DTSTART:20240310T070000
END:DAYLIGHT
BEGIN:STANDARD
TZOFFSETFROM:-0400
TZOFFSETTO:-0500
TZNAME:EST
DTSTART:20241103T060000
END:STANDARD
BEGIN:DAYLIGHT
TZOFFSETFROM:-0500
TZOFFSETTO:-0400
TZNAME:EDT
DTSTART:20250309T070000
END:DAYLIGHT
BEGIN:STANDARD
TZOFFSETFROM:-0400
TZOFFSETTO:-0500
TZNAME:EST
DTSTART:20251102T060000
END:STANDARD
BEGIN:DAYLIGHT
TZOFFSETFROM:-0500
TZOFFSETTO:-0400
TZNAME:EDT
DTSTART:20260308T070000
END:DAYLIGHT
BEGIN:STANDARD
TZOFFSETFROM:-0400
TZOFFSETTO:-0500
TZNAME:EST
DTSTART:20261101T060000
END:STANDARD
BEGIN:DAYLIGHT
TZOFFSETFROM:-0500
TZOFFSETTO:-0400
TZNAME:EDT
DTSTART:20270314T070000
END:DAYLIGHT
BEGIN:STANDARD
TZOFFSETFROM:-0400
TZOFFSETTO:-0500
TZNAME:EST
DTSTART:20271107T060000
END:STANDARD
END:VTIMEZONE
BEGIN:VEVENT
DTSTART;TZID=America/New_York:20260117T160000
DTEND;TZID=America/New_York:20260117T183000
DTSTAMP:20260423T054245
CREATED:20260114T201316Z
LAST-MODIFIED:20260114T201316Z
UID:10005466-1768665600-1768674600@www.positivelyosceola.com
SUMMARY:Afterglow Duo Sunset Cruise
DESCRIPTION:Join the Afterglow Duo aboard the Old Florida Riverboat Company’s Lillie for an unforgettable evening of live music\, fun\, and beautiful sunset views. Relax\, laugh and enjoy the melodic music while the Lillie crew takes care of all your needs. Tickets are very limited so get while you can.\nBoarding 4:00PMDeparture 4:30PMReturn 6:30 PM
URL:https://www.positivelyosceola.com/event/afterglow-duo-sunset-cruise/
LOCATION:Old Florida Riverboat Company\, 1402 Lakeshore Drive\, St. Cloud\, FL\, 34772
CATEGORIES:Old Florida Riverboat Company
ATTACH;FMTTYPE=image/png:https://www.positivelyosceola.com/wp-content/uploads/2026/01/Screenshot-2026-01-14-at-3.09.45-PM.png
END:VEVENT
BEGIN:VEVENT
DTSTART;TZID=America/New_York:20251231T210000
DTEND;TZID=America/New_York:20251231T210000
DTSTAMP:20260423T054245
CREATED:20251213T014915Z
LAST-MODIFIED:20251213T014915Z
UID:10005401-1767214800-1767214800@www.positivelyosceola.com
SUMMARY:New Year's Eve - Old Florida Gala
DESCRIPTION:Ring in the new year in unforgettable style aboard the beautifully restored Lillie! Join us for our exclusive inaugural Old Florida Gala\, a formal celebration expected to sell out quickly.\nEnjoy an elegant evening of timeless riverboat charm featuring live music from local favorites Slickwood\, delicious hors d’oeuvres\, a champagne toast at midnight\, and an atmosphere filled with sparkle\, celebration\, and pure Old Florida magic.\nThis truly will be an affair to remember as we welcome the new year surrounded by glowing lights\, waterfront beauty\, and classic elegance on the water.\n\nFormal attire encouraged\nArrival begins at 9pm and Departure at 9:30pm
URL:https://www.positivelyosceola.com/event/new-years-eve-old-florida-gala/
LOCATION:Old Florida Riverboat Company\, 1402 Lakeshore Drive\, St. Cloud\, FL\, 34772
CATEGORIES:Old Florida Riverboat Company
ATTACH;FMTTYPE=image/png:https://www.positivelyosceola.com/wp-content/uploads/2025/12/Screenshot-2025-12-12-at-8.45.06-PM.png
END:VEVENT
BEGIN:VEVENT
DTSTART;TZID=America/New_York:20251221T150000
DTEND;TZID=America/New_York:20251221T150000
DTSTAMP:20260423T054245
CREATED:20251124T191154Z
LAST-MODIFIED:20251124T191154Z
UID:10004919-1766329200-1766329200@www.positivelyosceola.com
SUMMARY:Operation Save Christmas: A Live Radio Play and Day Cruise
DESCRIPTION:Join the Old Florida River Boat Company for a unique Holiday Fundraiser Cruise aboard The Lillie!Enjoy a relaxing scenic cruise on the beautiful East Lake Toho while being entertained by a captivating\, LIVE radio play! It’s nostalgic fun for a wonderful cause.\nDeparture: 3:00 p.m. sharp!Location: 1402 Lakeshore Blvd\, St Cloud\, FL 34769\nBook your ticket today and help save Christmas! www.theatreinthecloud.com
URL:https://www.positivelyosceola.com/event/operation-save-christmas-a-live-radio-play-and-day-cruise/
LOCATION:Old Florida Riverboat Company\, 1402 Lakeshore Drive\, St. Cloud\, FL\, 34772
CATEGORIES:Old Florida Riverboat Company
ATTACH;FMTTYPE=image/png:https://www.positivelyosceola.com/wp-content/uploads/2025/11/Screenshot-2025-11-24-at-2.05.14-PM.png
END:VEVENT
BEGIN:VEVENT
DTSTART;TZID=America/New_York:20251220T170000
DTEND;TZID=America/New_York:20251220T200000
DTSTAMP:20260423T054245
CREATED:20251124T005647Z
LAST-MODIFIED:20251124T005647Z
UID:10004645-1766250000-1766260800@www.positivelyosceola.com
SUMMARY:Holiday Lights Cruise
DESCRIPTION:Hop aboard the beautifully restored “Lillie” for a magical Holiday Lights Tour on the water! Enjoy a festive evening surrounded by sparkling holiday lights\, cheerful décor\, and the joyful spirit of the season — featuring live music by Skart from The Supervillains — as we cruise into a cozy holiday night.\nThe Lillie offers a full bar with plenty of nonalcoholic options\, along with limited snacks on board (chips\, nuts\, etc.). Want something special? Pre-order a charcuterie box from 10th Street Deli during ticket checkout.\nGangway opens: 4:30 PMAll aboard / Departure: 5:00 PM
URL:https://www.positivelyosceola.com/event/holiday-lights-cruise/
LOCATION:Old Florida Riverboat Company\, 1402 Lakeshore Drive\, St. Cloud\, FL\, 34772
CATEGORIES:Old Florida Riverboat Company
ATTACH;FMTTYPE=image/png:https://www.positivelyosceola.com/wp-content/uploads/2025/11/Screenshot-2025-11-23-at-7.47.27-PM.png
END:VEVENT
BEGIN:VEVENT
DTSTART;TZID=America/New_York:20251219T170000
DTEND;TZID=America/New_York:20251219T170000
DTSTAMP:20260423T054245
CREATED:20251124T012156Z
LAST-MODIFIED:20251124T012156Z
UID:10004649-1766163600-1766163600@www.positivelyosceola.com
SUMMARY:Holiday Lights Cruise Featuring the Super Freak Duo
DESCRIPTION:Hop aboard the beautifully restored “Lillie” for a magical Holiday Lights Tour on the water! Enjoy a festive evening surrounded by sparkling holiday lights\, cheerful décor\, and the joyful spirit of the season as we cruise into a cozy holiday night.\nFeaturing live music from local favorites Super Freak Duo\, this cruise delivers the perfect mix of holiday fun\, great tunes\, and relaxing waterfront views.\nThe Lillie offers a full bar with plenty of nonalcoholic options\, along with limited snacks on board (chips\, nuts\, etc.). Want something special? Pre-order a charcuterie box from 10th Street Deli during ticket checkout.\nGangway opens: 4:30 p.m.All aboard / Departure: 5:00 p.m.
URL:https://www.positivelyosceola.com/event/holiday-lights-cruise-featuring-the-super-freak-duo/
LOCATION:Old Florida Riverboat Company\, 1402 Lakeshore Drive\, St. Cloud\, FL\, 34772
ATTACH;FMTTYPE=image/png:https://www.positivelyosceola.com/wp-content/uploads/2025/11/Screenshot-2025-11-23-at-8.15.15-PM.png
END:VEVENT
BEGIN:VEVENT
DTSTART;TZID=America/New_York:20251214T140000
DTEND;TZID=America/New_York:20251214T153000
DTSTAMP:20260423T054245
CREATED:20251124T013806Z
LAST-MODIFIED:20251124T013806Z
UID:10004652-1765720800-1765726200@www.positivelyosceola.com
SUMMARY:Cookies and Cocoa with Santa - Special Sunday Cruise
DESCRIPTION:All aboard for a magical afternoon of holiday fun on the Lillie! Join us for our Cookies & Cocoa with Santa Cruise\, the perfect family-friendly Christmas adventure on the water.\nGuests will enjoy warm cocoa and fresh cookies while playing holiday games\, creating festive crafts\, listening to story time with Santa\, and taking pictures with the big man himself as he sails along with us. It’s a cozy\, joy-filled experience that little ones—and grown-ups—will remember all season long.\nGangway opens at 1:30 p.m.
URL:https://www.positivelyosceola.com/event/cookies-and-cocoa-with-santa-special-sunday-cruise/
LOCATION:Old Florida Riverboat Company\, 1402 Lakeshore Drive\, St. Cloud\, FL\, 34772
CATEGORIES:Old Florida Riverboat Company
ATTACH;FMTTYPE=image/png:https://www.positivelyosceola.com/wp-content/uploads/2025/11/Screenshot-2025-11-23-at-8.32.33-PM.png
END:VEVENT
BEGIN:VEVENT
DTSTART;TZID=America/New_York:20251207T103000
DTEND;TZID=America/New_York:20251207T120000
DTSTAMP:20260423T054245
CREATED:20251124T011431Z
LAST-MODIFIED:20251124T011431Z
UID:10004648-1765103400-1765108800@www.positivelyosceola.com
SUMMARY:Muffins and Mimosas - Special Sunday Cruise
DESCRIPTION:Hop aboard the beautifully restored “Lillie” for a serene Sunday morning on the water! Enjoy a delightful selection of fresh muffins\, sparkling mimosas\, and gentle morning breezes as we cruise in classic Old Florida charm.Only $24.99 per person and $10 for bottomless mimosas.The Lillie is an authentic sternwheeler\, lovingly restored and named after the historic vessel that graced the shores of East Lake in the late 1800s — and now she’s ready to welcome you for a relaxing and delicious start to your Sunday. \nGangway opens: 10:00 a.m.All aboard: 10:30 a.m.
URL:https://www.positivelyosceola.com/event/muffins-and-mimosas-special-sunday-cruise/
LOCATION:Old Florida Riverboat Company\, 1402 Lakeshore Drive\, St. Cloud\, FL\, 34772
CATEGORIES:Old Florida Riverboat Company
ATTACH;FMTTYPE=image/png:https://www.positivelyosceola.com/wp-content/uploads/2025/11/Screenshot-2025-11-23-at-8.09.49-PM.png
END:VEVENT
BEGIN:VEVENT
DTSTART;TZID=America/New_York:20251206T170000
DTEND;TZID=America/New_York:20251206T170000
DTSTAMP:20260423T054245
CREATED:20251124T013155Z
LAST-MODIFIED:20251124T013155Z
UID:10004651-1765040400-1765040400@www.positivelyosceola.com
SUMMARY:Christmas Carols & Ugly Sweaters - Holiday Lights Cruise
DESCRIPTION:Grab your most wonderfully tacky holiday sweater and join us aboard the Lillie for a festive Christmas Carols & Ugly Sweater Cruise! Set sail at 5 p.m. for an evening of merry music\, twinkling lights\, and plenty of holiday cheer on the water.\nSing along to your favorite Christmas carols\, show off your ugliest (and jolliest!) sweater\, and enjoy the cozy charm of the season as we cruise into a holly jolly Florida night. Perfect for families\, friends\, and anyone ready to get into the Christmas spirit!\n\nGangway opens at 4:30 p.m.All Aboard at 5 p.m.
URL:https://www.positivelyosceola.com/event/christmas-carols-ugly-sweaters-holiday-lights-cruise/
LOCATION:Old Florida Riverboat Company\, 1402 Lakeshore Drive\, St. Cloud\, FL\, 34772
CATEGORIES:Old Florida Riverboat Company
ATTACH;FMTTYPE=image/png:https://www.positivelyosceola.com/wp-content/uploads/2025/11/Screenshot-2025-11-23-at-8.28.22-PM.png
END:VEVENT
BEGIN:VEVENT
DTSTART;TZID=America/New_York:20251130T140000
DTEND;TZID=America/New_York:20251130T153000
DTSTAMP:20260423T054245
CREATED:20251124T010229Z
LAST-MODIFIED:20251124T010229Z
UID:10004646-1764511200-1764516600@www.positivelyosceola.com
SUMMARY:Worship on the Water
DESCRIPTION:Join us aboard the Lillie for a peaceful and uplifting Worship on the Water experience — a special afternoon of fellowship\, praise\, Christian music\, prayer\, and reflection surrounded by God’s beautiful creation.\nGang plank opens at 1:30 PM\n\nCome rejoice\, refresh your spirit\, and enjoy the calm waters as we gather in faith and community.\nBring your heart\, your voice\, and your praise — we can’t wait to worship with you! \nSeats are limited — reserve your spot today.
URL:https://www.positivelyosceola.com/event/worship-on-the-water/
LOCATION:Old Florida Riverboat Company\, 1402 Lakeshore Drive\, St. Cloud\, FL\, 34772
CATEGORIES:Old Florida Riverboat Company
ATTACH;FMTTYPE=image/png:https://www.positivelyosceola.com/wp-content/uploads/2025/11/Screenshot-2025-11-23-at-7.58.32-PM.png
END:VEVENT
BEGIN:VEVENT
DTSTART;TZID=America/New_York:20251129T163000
DTEND;TZID=America/New_York:20251129T163000
DTSTAMP:20260423T054245
CREATED:20251124T012752Z
LAST-MODIFIED:20251124T012752Z
UID:10004650-1764433800-1764433800@www.positivelyosceola.com
SUMMARY:Sunset Cruise With Live Music Featuring Afterglow
DESCRIPTION:Hop aboard for an epic adventure on the beautifully restored “Lillie\,” an authentic sternwheeler named after a historic vessel that operated on the shores of East Lake in the late 1800s. Featuring live music from local artists Afterglow.The Lillie has a full bar\, but don’t you worry\, plenty of nonalcoholic options on board as well. Limited snacks on board (chips\, nuts\, etc.) Pre order is available for charcuterie boxes from 10th street deli through the ticketing process. \nGangway opens at 4 p.m. all aboard at 4:30 p.m.
URL:https://www.positivelyosceola.com/event/sunset-cruise-with-live-music-featuring-afterglow/
LOCATION:Old Florida Riverboat Company\, 1402 Lakeshore Drive\, St. Cloud\, FL\, 34772
CATEGORIES:Old Florida Riverboat Company
ATTACH;FMTTYPE=image/png:https://www.positivelyosceola.com/wp-content/uploads/2025/11/Screenshot-2025-11-23-at-8.22.57-PM.png
END:VEVENT
BEGIN:VEVENT
DTSTART;TZID=America/New_York:20251128T163000
DTEND;TZID=America/New_York:20251128T163000
DTSTAMP:20260423T054245
CREATED:20251124T010916Z
LAST-MODIFIED:20251124T010916Z
UID:10004647-1764347400-1764347400@www.positivelyosceola.com
SUMMARY:Sunset Cruise - Live Music Featuring Mauricio Camacho
DESCRIPTION:Hop aboard for an epic adventure on the beautifully restored “Lillie\,” an authentic sternwheeler named after a historic vessel that operated on the shores of East Lake in the late 1800s.Featuring live music from local artist Mauricio Camacho.\nThe Lillie has a full bar\, but don’t you worry\, plenty of nonalcoholic options on board as well. Limited snacks on board (chips\, nuts\, etc.) Pre order is available for charcuterie boxes from 10th Street Deli through the ticketing process.\n\nGangway opens at 4 p.m. All aboard at 4:30 p.m.
URL:https://www.positivelyosceola.com/event/sunset-cruise-live-music-featuring-mauricio-camacho/
LOCATION:Old Florida Riverboat Company\, 1402 Lakeshore Drive\, St. Cloud\, FL\, 34772
CATEGORIES:Old Florida Riverboat Company
ATTACH;FMTTYPE=image/png:https://www.positivelyosceola.com/wp-content/uploads/2025/11/Screenshot-2025-11-23-at-8.07.31-PM.png
END:VEVENT
BEGIN:VEVENT
DTSTART;TZID=America/New_York:20240521T083000
DTEND;TZID=America/New_York:20240521T093000
DTSTAMP:20260423T054245
CREATED:20240514T160334Z
LAST-MODIFIED:20240514T160334Z
UID:10000530-1716280200-1716283800@www.positivelyosceola.com
SUMMARY:May Coffee Co-Op with Toho Riverboat Adventures and the St. Cloud Chamber
DESCRIPTION:The Coffee Co-Op event\, hosted by the St. Cloud Chamber\, offers a unique opportunity for attendees to take the stage and connect with a diverse audience each month. Ideal for professionals eager to network and share their business insights\, this event encourages you to bring your marketing materials and be prepared to pitch your ideas. Enjoy complimentary coffee and snacks provided by Dunkin’ Donuts. \nBoth members and non-members of the chamber are welcome to join for a morning of insightful discussions and networking.
URL:https://www.positivelyosceola.com/event/may-coffee-co-op-with-toho-riverboat-adventures-and-the-st-cloud-chamber/
LOCATION:Old Florida Riverboat Company\, 1402 Lakeshore Drive\, St. Cloud\, FL\, 34772
CATEGORIES:St. Cloud Chamber
ATTACH;FMTTYPE=image/png:https://www.positivelyosceola.com/wp-content/uploads/2024/05/St-Cloud-Chamber-Coffee-Co-Op.png
END:VEVENT
END:VCALENDAR