BEGIN:VCALENDAR
VERSION:2.0
PRODID:-//Positively Osceola - ECPv6.15.20//NONSGML v1.0//EN
CALSCALE:GREGORIAN
METHOD:PUBLISH
X-WR-CALNAME:Positively Osceola
X-ORIGINAL-URL:https://www.positivelyosceola.com
X-WR-CALDESC:Events for Positively Osceola
REFRESH-INTERVAL;VALUE=DURATION:PT1H
X-Robots-Tag:noindex
X-PUBLISHED-TTL:PT1H
BEGIN:VTIMEZONE
TZID:America/New_York
BEGIN:DAYLIGHT
TZOFFSETFROM:-0500
TZOFFSETTO:-0400
TZNAME:EDT
DTSTART:20250309T070000
END:DAYLIGHT
BEGIN:STANDARD
TZOFFSETFROM:-0400
TZOFFSETTO:-0500
TZNAME:EST
DTSTART:20251102T060000
END:STANDARD
BEGIN:DAYLIGHT
TZOFFSETFROM:-0500
TZOFFSETTO:-0400
TZNAME:EDT
DTSTART:20260308T070000
END:DAYLIGHT
BEGIN:STANDARD
TZOFFSETFROM:-0400
TZOFFSETTO:-0500
TZNAME:EST
DTSTART:20261101T060000
END:STANDARD
BEGIN:DAYLIGHT
TZOFFSETFROM:-0500
TZOFFSETTO:-0400
TZNAME:EDT
DTSTART:20270314T070000
END:DAYLIGHT
BEGIN:STANDARD
TZOFFSETFROM:-0400
TZOFFSETTO:-0500
TZNAME:EST
DTSTART:20271107T060000
END:STANDARD
END:VTIMEZONE
BEGIN:VEVENT
DTSTART;TZID=America/New_York:20260510T120000
DTEND;TZID=America/New_York:20260510T140000
DTSTAMP:20260421T055548
CREATED:20260318T184116Z
LAST-MODIFIED:20260318T184116Z
UID:10005566-1778414400-1778421600@www.positivelyosceola.com
SUMMARY:Mother's Day Brunch at Old Florida Riverboat Company
DESCRIPTION:Families looking to celebrate Mother’s Day can take to the water for a special brunch cruise aboard the Lillie\, offering a relaxed and scenic way to honor the occasion. \nThe Mother’s Day Brunch Cruise will feature a selection of brunch favorites\, live music\, and waterfront views\, creating a memorable experience for guests. Organizers say the event is designed to give families time to unwind together while celebrating the mothers in their lives. \nBoarding will begin at 11:30 a.m.\, with the cruise running from 12:00 p.m. to 2:00 p.m. Tickets are priced at $80 per person\, and reservations are required by May 3 due to limited seating. \nIn addition to the onboard experience\, mothers will receive special keepsakes created for the occasion\, adding a personal touch to the celebration. \nOrganizers note that space is limited and the event is expected to sell out. Reservations can be made at https://tinyurl.com/4z5xvjpt.
URL:https://www.positivelyosceola.com/event/mothers-day-brunch-at-old-florida-riverboat-company/
LOCATION:Old Florida Riverboat Company\, 1402 Lakeshore Drive\, St. Cloud\, FL\, 34772
ATTACH;FMTTYPE=image/jpeg:https://www.positivelyosceola.com/wp-content/uploads/2026/03/642843794_122164909412862339_4984735964574780603_n.jpg
END:VEVENT
END:VCALENDAR